BEGIN:VCALENDAR
VERSION:2.0
PRODID:-//Cannabis-Social-Club-Krefeld - ECPv6.15.20//NONSGML v1.0//EN
CALSCALE:GREGORIAN
METHOD:PUBLISH
X-WR-CALNAME:Cannabis-Social-Club-Krefeld
X-ORIGINAL-URL:https://csc-krefeld.de
X-WR-CALDESC:Veranstaltungen für Cannabis-Social-Club-Krefeld
REFRESH-INTERVAL;VALUE=DURATION:PT1H
X-Robots-Tag:noindex
X-PUBLISHED-TTL:PT1H
BEGIN:VTIMEZONE
TZID:Europe/Berlin
BEGIN:DAYLIGHT
TZOFFSETFROM:+0100
TZOFFSETTO:+0200
TZNAME:CEST
DTSTART:20220327T010000
END:DAYLIGHT
BEGIN:STANDARD
TZOFFSETFROM:+0200
TZOFFSETTO:+0100
TZNAME:CET
DTSTART:20221030T010000
END:STANDARD
BEGIN:DAYLIGHT
TZOFFSETFROM:+0100
TZOFFSETTO:+0200
TZNAME:CEST
DTSTART:20230326T010000
END:DAYLIGHT
BEGIN:STANDARD
TZOFFSETFROM:+0200
TZOFFSETTO:+0100
TZNAME:CET
DTSTART:20231029T010000
END:STANDARD
BEGIN:DAYLIGHT
TZOFFSETFROM:+0100
TZOFFSETTO:+0200
TZNAME:CEST
DTSTART:20240331T010000
END:DAYLIGHT
BEGIN:STANDARD
TZOFFSETFROM:+0200
TZOFFSETTO:+0100
TZNAME:CET
DTSTART:20241027T010000
END:STANDARD
BEGIN:DAYLIGHT
TZOFFSETFROM:+0100
TZOFFSETTO:+0200
TZNAME:CEST
DTSTART:20250330T010000
END:DAYLIGHT
BEGIN:STANDARD
TZOFFSETFROM:+0200
TZOFFSETTO:+0100
TZNAME:CET
DTSTART:20251026T010000
END:STANDARD
BEGIN:DAYLIGHT
TZOFFSETFROM:+0100
TZOFFSETTO:+0200
TZNAME:CEST
DTSTART:20260329T010000
END:DAYLIGHT
BEGIN:STANDARD
TZOFFSETFROM:+0200
TZOFFSETTO:+0100
TZNAME:CET
DTSTART:20261025T010000
END:STANDARD
END:VTIMEZONE
BEGIN:VTIMEZONE
TZID:Europe/Helsinki
BEGIN:DAYLIGHT
TZOFFSETFROM:+0200
TZOFFSETTO:+0300
TZNAME:EEST
DTSTART:20220327T010000
END:DAYLIGHT
BEGIN:STANDARD
TZOFFSETFROM:+0300
TZOFFSETTO:+0200
TZNAME:EET
DTSTART:20221030T010000
END:STANDARD
BEGIN:DAYLIGHT
TZOFFSETFROM:+0200
TZOFFSETTO:+0300
TZNAME:EEST
DTSTART:20230326T010000
END:DAYLIGHT
BEGIN:STANDARD
TZOFFSETFROM:+0300
TZOFFSETTO:+0200
TZNAME:EET
DTSTART:20231029T010000
END:STANDARD
BEGIN:DAYLIGHT
TZOFFSETFROM:+0200
TZOFFSETTO:+0300
TZNAME:EEST
DTSTART:20240331T010000
END:DAYLIGHT
BEGIN:STANDARD
TZOFFSETFROM:+0300
TZOFFSETTO:+0200
TZNAME:EET
DTSTART:20241027T010000
END:STANDARD
BEGIN:DAYLIGHT
TZOFFSETFROM:+0200
TZOFFSETTO:+0300
TZNAME:EEST
DTSTART:20250330T010000
END:DAYLIGHT
BEGIN:STANDARD
TZOFFSETFROM:+0300
TZOFFSETTO:+0200
TZNAME:EET
DTSTART:20251026T010000
END:STANDARD
END:VTIMEZONE
BEGIN:VTIMEZONE
TZID:UTC
BEGIN:STANDARD
TZOFFSETFROM:+0000
TZOFFSETTO:+0000
TZNAME:UTC
DTSTART:20220101T000000
END:STANDARD
END:VTIMEZONE
BEGIN:VEVENT
DTSTART;TZID=Europe/Berlin:20250609T140000
DTEND;TZID=Europe/Berlin:20250609T220000
DTSTAMP:20260421T162057
CREATED:20250607T005333Z
LAST-MODIFIED:20250607T005515Z
UID:4621-1749477600-1749506400@csc-krefeld.de
SUMMARY:Pre - Opening Party
DESCRIPTION:Montag 09.06.25\, ab 14 Uhr an unserer Location
URL:https://csc-krefeld.de/event/pre-opening-party/
END:VEVENT
BEGIN:VEVENT
DTSTART;TZID=Europe/Berlin:20250206T080000
DTEND;TZID=Europe/Berlin:20250206T170000
DTSTAMP:20260421T162057
CREATED:20250206T075659Z
LAST-MODIFIED:20250206T075659Z
UID:4354-1738828800-1738861200@csc-krefeld.de
SUMMARY:Stammtisch 06.02.25 im Cafe Classic am Ostwall 85-87
DESCRIPTION:leider hat das Mikado heute geschlossen\, daher  \nStammtisch heute im Cafe Classic am Ostwall 85-87 ab ca 18 Uhr
URL:https://csc-krefeld.de/event/stammtisch-06-02-25-im-cafe-classic-am-ostwall-85-87/
LOCATION:ostwall 85-87\, Ostwall 85-87\, Krefeld\, 47798\, Germany
ORGANIZER;CN="Cannabis Social Club Krefeld":MAILTO:krefeld@csc-krefeld.de
END:VEVENT
BEGIN:VEVENT
DTSTART;TZID=Europe/Berlin:20241107T180000
DTEND;TZID=Europe/Berlin:20241107T220000
DTSTAMP:20260421T162057
CREATED:20241107T050149Z
LAST-MODIFIED:20241107T050149Z
UID:4216-1731002400-1731016800@csc-krefeld.de
SUMMARY:Stammtisch Im Mikado in der Kulisse der Fabrik Heeder
DESCRIPTION:Wir treffen uns wieder im Mikado in der Kulisse der Fabrik Heeder. \nWir freuen uns euch dort wie jeden ersten Donnerstag ab 18 Uhr zu treffen. \n 
URL:https://csc-krefeld.de/event/stammtisch-im-mikado-in-der-kulisse-der-fabrik-heeder/
LOCATION:Fabrik Heeder\, Virchowstraße 130\, Krefeld\, NRW\, 47805\, Deutschland
ORGANIZER;CN="Cannabis Social Club Krefeld":MAILTO:krefeld@csc-krefeld.de
END:VEVENT
BEGIN:VEVENT
DTSTART;TZID=Europe/Berlin:20241031T180000
DTEND;TZID=Europe/Berlin:20241101T030000
DTSTAMP:20260421T162057
CREATED:20241025T151915Z
LAST-MODIFIED:20241025T152218Z
UID:4191-1730397600-1730430000@csc-krefeld.de
SUMMARY:Halloweed und Vereinseintragungs Party im Cafe Classic - Ostwall 85- ab 18 Uhr
DESCRIPTION:Halloweed Party im Cafe Classic \nHatte in der letzten Mail vergessen ein Formular für die Anmeldung anzuhängen\, es haben schon einige zugesagt\, noch ist für einige mehr Platz. Meldet euch bitte bis Mittwoch an damit wir wissen wer kommt und planen können. \nBitte aktiviere JavaScript in deinem Browser\, um dieses Formular fertigzustellen.Bitte aktiviere JavaScript in deinem Browser\, um dieses Formular fertigzustellen.Name *VornameNachnameE-Mail-Adresse *Anzahl der Personen mit denen ihr kommen möchtet *1-80Absenden  \nWas lange währt\, wird endlich gut. Wir feiern neben Halloween jetzt auch die nun erfolgreiche Eintragung des Vereins in das Vereinsregister der Stadt Krefeld. \nIch weiß was du letztes Halloween getan hast! Du hattest Angst vor’m schwarzen (blauen) Mann\, hast keinen Joint in der Öffentlichkeit geraucht! \nLass uns dieses Jahr das grüne Höllenzeug mit Freddy Krueger verbrennen\, uns soll doch kein fürchterlicher Scream! entfahren und am Ende werden wir völlig  Braindead sein.\nDarum flattert alle herbei wie die Vögel und kommt am  \n31.10.2024 \nab 18 Uhr im\nCafe Classic\nOstwall 85\, Krefeld\nEnde: offen \nzum Tanz der toten Seelen. \nFür Unterhaltung ist auch gesorgt:\nLeider hat Pennywise abgesagt und es gibt keine Clownsvorstellung\, dafür gibt es einen DJ der für gute Laune sorgt. Einen Kostümzwang gibt es aber nicht. \nEs wird eine Tombola geben rund um das Thema Cannabis. Wir haben im letzten Jahr eine Menge von sämtlichen Messen mitgebracht! Vielleicht habt ihr ja das Joker-Los. \nDer Wirt hat in seinem magischen Kochbuch einige griechische Snacks\, die er uns kredenzen wird. Dafür benötigen wir euer Bestes in Form von € 10\,- p. P. \nWer wie Rosemary ein Baby hat sollte das Schweigen der Lämmer im Kinderkanal anschalten\, denn der Exorzist ist leider verhindert und fällt als Babysitter aus. \nIch habe es im Gefühl\, auf dieser Party liegt ein gutes Omen. Es könnte ein green inferno werden. \nDie Plätze in unserem Geisterschloss sind begrenzt\, deshalb benötigen wir eine verbindliche Zusage mit wie vielen Personen ihr kommt.\nChucky darf natürlich seine Braut mitbringen und ihr euren Partner und/oder Freunde. \nDas Team des CSC Krefeld
URL:https://csc-krefeld.de/event/halloweed-und-vereinseintragungs-party-im-cafe-classic-ostwall-85-ab-18-uhr/
ORGANIZER;CN="Cannabis Social Club Krefeld":MAILTO:krefeld@csc-krefeld.de
END:VEVENT
BEGIN:VEVENT
DTSTART;TZID=Europe/Berlin:20240912T180000
DTEND;TZID=Europe/Berlin:20240912T223000
DTSTAMP:20260421T162057
CREATED:20240903T001856Z
LAST-MODIFIED:20240903T001913Z
UID:4169-1726164000-1726180200@csc-krefeld.de
SUMMARY:Stammtisch im Mikado in der Kulisse der Fabrik Heeder am 12.09.
DESCRIPTION:Nach unserem Urlaub freuen wir uns dieses Mal am 2. Donnerstag im September euch wieder zu sehen. Es gibt einiges zu berichten.
URL:https://csc-krefeld.de/event/stammtisch-im-mikado-in-der-kulisse-der-fabrik-heeder-am-12-09/
LOCATION:Fabrik Heeder\, Virchowstraße 130\, Krefeld\, NRW\, 47805\, Deutschland
END:VEVENT
BEGIN:VEVENT
DTSTART;TZID=Europe/Berlin:20240704T183000
DTEND;TZID=Europe/Berlin:20240704T213000
DTSTAMP:20260421T162057
CREATED:20240703T072315Z
LAST-MODIFIED:20240703T072315Z
UID:4065-1720117800-1720128600@csc-krefeld.de
SUMMARY:Stammtisch im Juli - 04.07.24
DESCRIPTION:
URL:https://csc-krefeld.de/event/stammtisch-im-juli-04-07-24/
LOCATION:Fabrik Heeder\, Virchowstraße 130\, Krefeld\, NRW\, 47805\, Deutschland
ORGANIZER;CN="Cannabis Social Club Krefeld":MAILTO:krefeld@csc-krefeld.de
END:VEVENT
BEGIN:VEVENT
DTSTART;TZID=Europe/Helsinki:20240502T183000
DTEND;TZID=Europe/Helsinki:20240502T220000
DTSTAMP:20260421T162057
CREATED:20240422T025241Z
LAST-MODIFIED:20240422T032142Z
UID:3931-1714674600-1714687200@csc-krefeld.de
SUMMARY:Stammtisch im Mikado am Donnerstag\, 02.05.24 - 18:30 Uhr
DESCRIPTION:Wie jeden 1. Donnerstag treffen wir uns im Mikado zum geselligen Zusammensein. \nWie letztes Mal werde ich(werden wir)  auch dieses Mal bereits ab ca. 17 Uhr auf dem Platz davor sein und auf gutes Wetter hoffen. \nWir bitten um eine Anmeldung\, wer kommen möchte. \nBitte aktiviere JavaScript in deinem Browser\, um dieses Formular fertigzustellen.Bitte aktiviere JavaScript in deinem Browser\, um dieses Formular fertigzustellen.Name *VornameNachnameE-Mail-Adresse *E-Mail-AdresseE-Mail bestätigenKommentar oder NachrichtMehrfachauswahlIch möchte zum Stammtisch kommenAbsenden  \n  \n 
URL:https://csc-krefeld.de/event/stammtisch-im-mikado-am-donnerstag-02-05-24-1830-uhr/
LOCATION:Fabrik Heeder\, Virchowstraße 130\, Krefeld\, NRW\, 47805\, Deutschland
ORGANIZER;CN="Cannabis Social Club Krefeld":MAILTO:krefeld@csc-krefeld.de
END:VEVENT
BEGIN:VEVENT
DTSTART;TZID=Europe/Helsinki:20240307T180000
DTEND;TZID=Europe/Helsinki:20240307T213000
DTSTAMP:20260421T162057
CREATED:20240301T150240Z
LAST-MODIFIED:20240307T160041Z
UID:3778-1709834400-1709847000@csc-krefeld.de
SUMMARY:Stammtisch im Mikado
DESCRIPTION:Wir treffen uns wieder in einer gemütlichen Runde zum Kennenlernen und Quasseln und Besprechen der aktuellen Situation. \nIm Mikado in der Kulisse der Fabrik Heeder\,\, wie immer am 1. Donnerstag\, dem 7.3.  ab ca. 18 Uhr. Ist dies der letzte Stammtisch vor der Legalisierung? \nStammtisch am Donnerstag 4.4.24 im MikadoBitte aktiviere JavaScript in deinem Browser\, um dieses Formular fertigzustellen.Bitte aktiviere JavaScript in deinem Browser\, um dieses Formular fertigzustellen.Meine E-Mail *E-Mail-AdresseE-Mail bestätigenStammtisch am 04.04.24 *Ich möchte zum Stammtisch kommenMitglied? *Ich habe bereits einen Mitgliedsantrag gestelltIch habe noch keinen Mitgliedsantrag gestelltAbsenden  \nAlle\, die sich zum Stammtisch angemeldet haben\, sind herzlich willkommen. Ich musste und muss niemand absagen. Bis nachher 🙂
URL:https://csc-krefeld.de/event/stammtisch-im-mikado/
LOCATION:Fabrik Heeder\, Virchowstraße 130\, Krefeld\, NRW\, 47805\, Deutschland
ORGANIZER;CN="Cannabis Social Club Krefeld":MAILTO:krefeld@csc-krefeld.de
END:VEVENT
BEGIN:VEVENT
DTSTART;TZID=Europe/Helsinki:20240201T183000
DTEND;TZID=Europe/Helsinki:20240201T213000
DTSTAMP:20260421T162057
CREATED:20240121T152712Z
LAST-MODIFIED:20240129T092758Z
UID:3635-1706812200-1706823000@csc-krefeld.de
SUMMARY:Mitgliederversammlung +- Cannabis Social Club Krefeld - am 01.02.24
DESCRIPTION:Mitgliederversammlung+ Februar 2024 im Mikado in der Kulisse der Fabrik Heeder ab 18:30 Uhr\nDer Cannabis Social Club Krefeld ist kurz vor der Eintragung\, daher nun eine Mitgliederversammlung+ statt eines Stammtisches. \nEs sind dazu alle eingeladen\, die Mitglied werden möchten. Wir haben offiziell noch keine Mitglieder aufgenommen\, das lag am Eintragungsverfahren welches nun vorerst kurz vor Abschluss steht. Wie auch die letzten Male treffen wir uns wieder in einer entspannten Runde. \nAllerdings geht es nun doch in die heiße Phase. Mit dem Gründungsteam+ bekommen wir sicher ca. 100 Leute versorgt. Danach wird es zunehmend schwerer. \nDer Cannabis Social Club braucht die aktive Unterstützung der Mitglieder. Es geht also um die Tagesordnungspunkte: \n\n\nLocation\n\n\n\nMitgliedsbeiträge\n\n\n\nAbgabepreise\n\n\n\nOrtsgruppe Hanfverband Krefeld\n\n\n\nweiteres\n\n\nWer kommen möchte\, soll sich bitte hier anmelden.  Bitte aktiviere JavaScript in deinem Browser\, um dieses Formular fertigzustellen.Bitte aktiviere JavaScript in deinem Browser\, um dieses Formular fertigzustellen.Teilnahme *Ich möchte kommenEs geht langsam auf die Legalisierung zu\, wir möchten euch kennenlernen. Name *VornameNachnameE-Mail-Adresse *E-Mail-AdresseE-Mail bestätigenMitgliedschaft? *Ich habe bereits einen Mitgliedsantrag gestelltIch habe noch keinen Mitgliedsantrag gestelltMitglied werden? *Ich möchte einen Mitgliedsantrag stellenIch möchte kein Mitglied werdenMitgliedschaft Voranmeldung \nAbsenden  .\nWer nicht kommt\, verpasst die Gelegenheit mitzugestalten. \n 
URL:https://csc-krefeld.de/event/stammtisch-cannabis-social-club-krefeld-am-01-02-24/
LOCATION:Fabrik Heeder\, Virchowstraße 130\, Krefeld\, NRW\, 47805\, Deutschland
ATTACH;FMTTYPE=image/jpeg:https://csc-krefeld.de/wp-content/uploads/2024/01/logo_csckrefeld150.jpg
END:VEVENT
BEGIN:VEVENT
DTSTART;TZID=Europe/Helsinki:20240112T130000
DTEND;TZID=Europe/Helsinki:20240112T170000
DTSTAMP:20260421T162057
CREATED:20231220T032547Z
LAST-MODIFIED:20231220T032734Z
UID:3485-1705064400-1705078800@csc-krefeld.de
SUMMARY:Fluence Light lädt ein - 12.01.2024 - 13 Uhr
DESCRIPTION:Treffen/Abfahrt ist am 12.01. bei uns um 13:00 Uhr \n\nAnkunft in Horst (NL)                                                        ca. 14h\nCheck-In / Begrüßung                                                      bis ca. 14.30h\n\n\nFluence Unternehmenspräsentation\nÜberblick Cannabis Projekte\nLighting Fundamentals\nFluence Light Spectrum für Cannabis\nFluence Research – inkl. Far red & UV\nGrowroom                                                                          ca. 15.30\nFragen und Networking                                                   ca. 16h
URL:https://csc-krefeld.de/event/fluence-light-laedt-ein-12-01-2024-13-uhr/
END:VEVENT
BEGIN:VEVENT
DTSTART;TZID=Europe/Helsinki:20240111T183000
DTEND;TZID=Europe/Helsinki:20240111T213000
DTSTAMP:20260421T162057
CREATED:20231220T034937Z
LAST-MODIFIED:20240104T071042Z
UID:3487-1704997800-1705008600@csc-krefeld.de
SUMMARY:Stammtisch verschoben auf Donnerstag 11.01.24
DESCRIPTION:Für den 04.01 haben uns die Gastronomen aus privaten Gründen abgesagt. \nNach aktueller Aussicht soll es für Privatanwender am 01.04. losgehen und ab 01.07 dürfen wir CSCs dann Lizenzen beantragen. \nWir haben nun erst einmal wieder ein Datum mit dem wir neu planen können. Mehr zu unserer weiteren Planung auf dem Stammtisch im Mikado.
URL:https://csc-krefeld.de/event/stammtisch-am-donnerstag-04-01-24/
LOCATION:Fabrik Heeder\, Virchowstraße 130\, Krefeld\, NRW\, 47805\, Deutschland
END:VEVENT
BEGIN:VEVENT
DTSTART;TZID=Europe/Berlin:20231207T183000
DTEND;TZID=Europe/Berlin:20231207T210000
DTSTAMP:20260421T162057
CREATED:20231202T120218Z
LAST-MODIFIED:20231202T134036Z
UID:2839-1701973800-1701982800@csc-krefeld.de
SUMMARY:Stammtisch im Mikado Krefeld
DESCRIPTION:Wir treffen uns am kommenden Donnerstag\, dem 07.12.23 wieder um 18:30 zum Stammtisch im Mikado in der Kulisse der Fabrik Heeder 🙂 \n\nWir freuen uns auf Euch!\nWir waren in Leipzig\, Berlin und Essen politisch unterwegs.\nWir trafen uns bereits mit unterschiedlichen Herstellern zu Vorabgesprächen\nWir konnten Besichtigungstermine verschiedener Werke vereinbaren.\nWir bereiten uns auf vielen Wegen auf die Legalisierung vor.\nwir trafen uns mit Clubs aus Leipzig\, Bottrop und weiteren Aktivisten.\n\nWir setzen uns dauernd für euch und natürlich uns selbst ein. \n  \n 
URL:https://csc-krefeld.de/event/stammtisch-im-mikado-krefeld/
LOCATION:Fabrik Heeder\, Virchowstraße 130\, Krefeld\, NRW\, 47805\, Deutschland
ATTACH;FMTTYPE=image/jpeg:https://csc-krefeld.de/wp-content/uploads/2023/11/IMG_20230824_172557-scaled.jpg
END:VEVENT
BEGIN:VEVENT
DTSTART;TZID=Europe/Helsinki:20231005T183000
DTEND;TZID=Europe/Helsinki:20231005T213000
DTSTAMP:20260421T162057
CREATED:20230917T141847Z
LAST-MODIFIED:20230917T141928Z
UID:1995-1696530600-1696541400@csc-krefeld.de
SUMMARY:Stammtisch am 05.10.23 im Mikado
DESCRIPTION:Wir treffen uns am 05.10.23 wieder im Mikado. Es ist viel passiert inzwischen.\n Bitte aktiviere JavaScript in deinem Browser\, um dieses Formular fertigzustellen.Bitte aktiviere JavaScript in deinem Browser\, um dieses Formular fertigzustellen.Name *E-Mail *Stammtisch am 05.10. im Mikado *\n				\n					\n					\n				\n				\n				Ich möchte zum Stammtisch am 05.10. kommen.\n			Meine NachrichtAbsenden
URL:https://csc-krefeld.de/event/stammtisch-am-05-10-23-im-mikado/
LOCATION:Fabrik Heeder\, Virchowstraße 130\, Krefeld\, NRW\, 47805\, Deutschland
ATTACH;FMTTYPE=image/png:https://csc-krefeld.de/wp-content/uploads/2023/08/image-1.png
ORGANIZER;CN="Cannabis Social Club Krefeld":MAILTO:krefeld@csc-krefeld.de
END:VEVENT
BEGIN:VEVENT
DTSTART;TZID=Europe/Helsinki:20230825T120000
DTEND;TZID=Europe/Helsinki:20230827T190000
DTSTAMP:20260421T162057
CREATED:20230725T152319Z
LAST-MODIFIED:20230814T161007Z
UID:1237-1692964800-1693162800@csc-krefeld.de
SUMMARY:Cannafair
DESCRIPTION:Helft uns bitte den Ort besser zu planen und entsprechend zu reservierenBitte aktiviere JavaScript in deinem Browser\, um dieses Formular fertigzustellen.Bitte aktiviere JavaScript in deinem Browser\, um dieses Formular fertigzustellen.Name *E-Mail *Stammtisch am 05.10. im Mikado *\n				\n					\n					\n				\n				\n				Ich möchte zum Stammtisch am 05.10. kommen.\n			Meine NachrichtAbsenden
URL:https://csc-krefeld.de/event/cannafair/
LOCATION:Düsseldorf
ATTACH;FMTTYPE=image/png:https://csc-krefeld.de/wp-content/uploads/2023/07/cf23_logo-e1690874710976.png
END:VEVENT
BEGIN:VEVENT
DTSTART;TZID=Europe/Helsinki:20230816T170000
DTEND;TZID=Europe/Helsinki:20230816T180000
DTSTAMP:20260421T162057
CREATED:20230814T143630Z
LAST-MODIFIED:20230814T145927Z
UID:1596-1692205200-1692208800@csc-krefeld.de
SUMMARY:Wegge und Heidenblut auf Instagram Live
DESCRIPTION:Aus dem Insta von Dirk Heidenblut \nhttps://www.instagram.com/p/Cv7HwD4Neg9/ \n“Am Mittwoch soll es soweit sein\, der Gesetzentwurf wird im Kabinett vorgelegt und hoffentlich verabschiedet. Dann ist der Weg ins Parlament frei. Gemeinsam werden Carmen und ich auch diesen Schritt wieder einordnen.\n#cannabis #legalisierung #entkriminalisierung #kabinett #gesetz #weitergehtes” \nWir wollen endlich etwas brauchbares und nicht noch weitere Zerstörung der Legalisierung
URL:https://csc-krefeld.de/event/wegge-und-heidenblut-auf-instagram-live/
ATTACH;FMTTYPE=image/jpeg:https://csc-krefeld.de/wp-content/uploads/2023/08/F3fZihZXUAAS2Gb.jpg
END:VEVENT
BEGIN:VEVENT
DTSTART;TZID=Europe/Helsinki:20230816T123000
DTEND;TZID=Europe/Helsinki:20230816T140000
DTSTAMP:20260421T162057
CREATED:20230814T090821Z
LAST-MODIFIED:20230814T140426Z
UID:1591-1692189000-1692194400@csc-krefeld.de
SUMMARY:Pressekonferenz des BMG Prof Lauterbach
DESCRIPTION:ca. 12:30 Uhr – LIVE – Berlin:\nPressekonferenz mit Karl Lauterbach (SPD\, Bundesgesundheitsminister) zur kontrollierten Abgabe von Genusscannabis an Erwachsene
URL:https://csc-krefeld.de/event/pressekonferenz-des-bmg-prof-lauterbach/
ATTACH;FMTTYPE=image/jpeg:https://csc-krefeld.de/wp-content/uploads/2023/08/BM_Lauterbach_Portrait-hochformat_Presse-scaled-e1692021823243.jpg
END:VEVENT
BEGIN:VEVENT
DTSTART;TZID=Europe/Helsinki:20230812T120000
DTEND;TZID=Europe/Helsinki:20230812T220000
DTSTAMP:20260421T162057
CREATED:20230725T145857Z
LAST-MODIFIED:20230725T145857Z
UID:1231-1691841600-1691877600@csc-krefeld.de
SUMMARY:Hanfparade
DESCRIPTION:
URL:https://csc-krefeld.de/event/hanfparade/
LOCATION:Berlin Alexanderplatz\, Alexanderplatz\, Berlin\, Deutschland
ATTACH;FMTTYPE=image/png:https://csc-krefeld.de/wp-content/uploads/2023/07/image-1.png
END:VEVENT
BEGIN:VEVENT
DTSTART;TZID=Europe/Helsinki:20230728T120000
DTEND;TZID=Europe/Helsinki:20230730T180000
DTSTAMP:20260421T162057
CREATED:20230725T151059Z
LAST-MODIFIED:20230725T151210Z
UID:1234-1690545600-1690740000@csc-krefeld.de
SUMMARY:Hamcan
DESCRIPTION:
URL:https://csc-krefeld.de/event/hamcan/
LOCATION:Stadtdeich 2-4\, Stadtdeich 2-4\, Hamburg\, Deutschland
ATTACH;FMTTYPE=image/jpeg:https://csc-krefeld.de/wp-content/uploads/2023/07/LOGO-BLACK.jpg
END:VEVENT
BEGIN:VEVENT
DTSTART;TZID=Europe/Helsinki:20230727T190000
DTEND;TZID=Europe/Helsinki:20230727T190000
DTSTAMP:20260421T162057
CREATED:20230724T031022Z
LAST-MODIFIED:20230724T032226Z
UID:748-1690484400-1690484400@csc-krefeld.de
SUMMARY:1. Stammtisch am 27.07.2023 - 19 Uhr
DESCRIPTION:Es gibt viel zu (er-)klären\nGerne möchten wir Interessierte und künftige Mitglieder bei einem “Stammtisch” im “Blauer Engel” um 19 Uhr am Donnerstag den 27.07.2023 kennenlernen. \n Bitte aktiviere JavaScript in deinem Browser\, um dieses Formular fertigzustellen.Bitte aktiviere JavaScript in deinem Browser\, um dieses Formular fertigzustellen.E-Mail *Checkboxen\n				\n					\n					\n				\n				\n				ich versuche zu kommen\n			Absenden  \n 
URL:https://csc-krefeld.de/event/1-stammtisch-am-27-07-2023/
LOCATION:Blauer Engel\, Schwertstraße 144\, Krefeld\, 47799\, Deutschland
END:VEVENT
BEGIN:VEVENT
DTSTART;TZID=UTC:20230623T080000
DTEND;TZID=UTC:20230626T170000
DTSTAMP:20260421T162057
CREATED:20230520T084728Z
LAST-MODIFIED:20230520T084728Z
UID:407-1687507200-1687798800@csc-krefeld.de
SUMMARY:MaryJane Berlin
DESCRIPTION:https://maryjane-berlin.com/?gclid=CjwKCAjw36GjBhAkEiwAKwIWyVR1Jlxc6V2AvJDeb-WzRXt8KhLRjnEvQUqCMHGun8KwP0wzhiVpjBoCrz8QAvD_BwE
URL:https://csc-krefeld.de/event/maryjane-berlin/
END:VEVENT
END:VCALENDAR